BEGIN:VCALENDAR
VERSION:2.0
PRODID:-//sebbo.net//ical-generator//EN
NAME:Solo Konzert
X-WR-CALNAME:Solo Konzert
TIMEZONE-ID:Europe/Berlin
X-WR-TIMEZONE:Europe/Berlin
BEGIN:VEVENT
UID:e7e6d332-8706-4c27-80d8-2450ea7c86ad
SEQUENCE:0
DTSTAMP:20260419T141723
DTSTART:20261017T120000
DTEND:20261017T140000
SUMMARY:Konzert – Соло
LOCATION:Bei Marlene \n · 
DESCRIPTION:Von Kharkiv bis Paris 
END:VEVENT
END:VCALENDAR