BEGIN:VCALENDAR
VERSION:2.0
PRODID:-//sebbo.net//ical-generator//EN
NAME:Duo Cavinella Konzert
X-WR-CALNAME:Duo Cavinella Konzert
TIMEZONE-ID:Europe/Berlin
X-WR-TIMEZONE:Europe/Berlin
BEGIN:VEVENT
UID:bf364e43-09c9-498d-885f-53ff0c84b32e
SEQUENCE:0
DTSTAMP:20260419T141909
DTSTART:20260816T160000
DTEND:20260816T180000
SUMMARY:Konzert – Duo Cavinella
LOCATION:Basilika St.Aposteln\nNeumarkt\n · Köln
DESCRIPTION:Beethoven / Bortkiewicz 
END:VEVENT
END:VCALENDAR