BEGIN:VCALENDAR
VERSION:2.0
PRODID:-//sebbo.net//ical-generator//EN
NAME:Violina Petrychenko Konzert
X-WR-CALNAME:Violina Petrychenko Konzert
TIMEZONE-ID:Europe/Berlin
X-WR-TIMEZONE:Europe/Berlin
BEGIN:VEVENT
UID:84992f2c-06b8-430b-960b-8b9748cf0b31
SEQUENCE:0
DTSTAMP:20260419T142026
DTSTART:20260425T190000
DTEND:20260425T210000
SUMMARY:Konzert – with Nazar Pylatiuk 
LOCATION:O-Ton Studio\nKyllstraße 7a\n50678 · Köln 
DESCRIPTION:Briefe an die Freunde \nSilvestrov / Kancheli 
END:VEVENT
END:VCALENDAR