BEGIN:VCALENDAR
VERSION:2.0
PRODID:-//sebbo.net//ical-generator//EN
NAME:Duo Cavinella Konzert
X-WR-CALNAME:Duo Cavinella Konzert
TIMEZONE-ID:Europe/Berlin
X-WR-TIMEZONE:Europe/Berlin
BEGIN:VEVENT
UID:a96fc9ea-51ad-41ea-a800-0df137e51581
SEQUENCE:0
DTSTAMP:20260423T144443
DTSTART:20260605T190000
DTEND:20260605T210000
SUMMARY:Konzert – Duo Cavinella
LOCATION:Basilika St.Aposteln\nNeumarkt\n · Köln
DESCRIPTION:Bortkiewicz/ Szymanowski 
END:VEVENT
END:VCALENDAR