BEGIN:VCALENDAR
VERSION:2.0
PRODID:-//sebbo.net//ical-generator//EN
NAME:Solo Konzert
X-WR-CALNAME:Solo Konzert
TIMEZONE-ID:Europe/Berlin
X-WR-TIMEZONE:Europe/Berlin
BEGIN:VEVENT
UID:7900c005-b7d6-49b1-93f6-96884ddf045d
SEQUENCE:0
DTSTAMP:20260423T144453
DTSTART:20260906T190000
DTEND:20260906T210000
SUMMARY:Konzert – Solo
LOCATION:Ev.-Luth. Kirchengemeinde Langeoog\nHauptstraße 13\n26465 · Lan
 geoog
DESCRIPTION:Zwischen Tanz und Nacht\n<h2 data-start="4400" data-end="4415"
 ><strong data-start="4403" data-end="4415">Programm</strong></h2>\n<h3 dat
 a-start="4417" data-end="4436"><strong data-start="4421" data-end="4436">E
 rster Teil</strong></h3>\n<p data-start="4438" data-end="4482"><strong dat
 a-start="4438" data-end="4469">Fr&eacute\;d&eacute\;ric Chopin (1810&ndash
 \;1849)</strong><br data-start="4469" data-end="4472">Mazurken</p>\n<ul da
 ta-start="4483" data-end="4628">\n<li data-start="4483" data-end="4508">\n
 <p data-start="4485" data-end="4508">op. 33 Nr. 1 gis-Moll</p>\n</li>\n<li
  data-start="4509" data-end="4532">\n<p data-start="4511" data-end="4532">
 op. 33 Nr. 4 h-Moll</p>\n</li>\n<li data-start="4534" data-end="4556">\n<p
  data-start="4536" data-end="4556">op. 17 Nr. 1 B-Dur</p>\n</li>\n<li data
 -start="4557" data-end="4580">\n<p data-start="4559" data-end="4580">op. 1
 7 Nr. 2 e-Moll</p>\n</li>\n<li data-start="4581" data-end="4604">\n<p data
 -start="4583" data-end="4604">op. 17 Nr. 3 As-Dur</p>\n</li>\n<li data-sta
 rt="4605" data-end="4628">\n<p data-start="4607" data-end="4628">op. 17 Nr
 . 4 a-Moll</p>\n</li>\n</ul>\n<p data-start="4630" data-end="4688"><strong
  data-start="4630" data-end="4663">Karol Szymanowski (1882&ndash\;1937)</s
 trong><br data-start="4663" data-end="4666">Vier Mazurken op. 50</p>\n<ul 
 data-start="4689" data-end="4756">\n<li data-start="4689" data-end="4705">
 \n<p data-start="4691" data-end="4705">Nr. 1 e-Moll</p>\n</li>\n<li data-s
 tart="4706" data-end="4721">\n<p data-start="4708" data-end="4721">Nr. 2 A
 -Dur</p>\n</li>\n<li data-start="4722" data-end="4740">\n<p data-start="47
 24" data-end="4740">Nr. 3 cis-Moll</p>\n</li>\n<li data-start="4741" data-
 end="4756">\n<p data-start="4743" data-end="4756">Nr. 4 B-Dur</p>\n</li>\n
 </ul>\n<p data-start="4758" data-end="4815"><strong data-start="4758" data
 -end="4790">Felix Blumenfeld (1863&ndash\;1931)</strong><br data-start="47
 90" data-end="4793">Zwei Mazurken op. 35</p>\n<ul data-start="4816" data-e
 nd="4849">\n<li data-start="4816" data-end="4832">\n<p data-start="4818" d
 ata-end="4832">Nr. 2 c-Moll</p>\n</li>\n<li data-start="4833" data-end="48
 49">\n<p data-start="4835" data-end="4849">Nr. 1 As-Dur</p>\n</li>\n</ul>\
 n<p data-start="4851" data-end="4858"><em data-start="4851" data-end="4858
 ">Pause</em></p>\n<hr data-start="4860" data-end="4863">\n<h3 data-start="
 4865" data-end="4885"><strong data-start="4869" data-end="4885">Zweiter Te
 il</strong></h3>\n<p data-start="4887" data-end="4940"><strong data-start=
 "4887" data-end="4906">Fr&eacute\;d&eacute\;ric Chopin</strong><br data-st
 art="4906" data-end="4909">Nocturne cis-Moll&nbsp\;</p>\n<p data-start="49
 42" data-end="4988"><strong data-start="4942" data-end="4966">Stanislav Ly
 udkevych (1879-1979)</strong><br data-start="4966" data-end="4969">Nocturn
 e cis-Moll</p>\n<p data-start="4990" data-end="5049"><strong data-start="4
 990" data-end="5024">Sergei Bortkiewicz (1877&ndash\;1952)</strong><br dat
 a-start="5024" data-end="5027"><em data-start="5027" data-end="5040">Lyric
 a Nova</em> op. 59</p>\n<ol data-start="5050" data-end="5164">\n<li data-s
 tart="5050" data-end="5083">\n<p data-start="5053" data-end="5083">Fis-Dur
  &ndash\; <em data-start="5063" data-end="5081">con moto festoso</em></p>\
 n</li>\n<li data-start="5084" data-end="5109">\n<p data-start="5087" data-
 end="5109">b-Moll &ndash\; <em data-start="5096" data-end="5107">Andantino
 </em></p>\n</li>\n<li data-start="5110" data-end="5136">\n<p data-start="5
 113" data-end="5136">Fis-Dur &ndash\; <em data-start="5123" data-end="5134
 ">Andantino</em></p>\n</li>\n<li data-start="5137" data-end="5164">\n<p da
 ta-start="5140" data-end="5164">Des-Dur- <em data-start="5149" data-end="5
 162">con slancio</em></p>\n</li>\n</ol>\n<p data-start="5166" data-end="52
 21"><strong data-start="5166" data-end="5196">Viktor Kosenko (1896&ndash\;
 1938)</strong><br data-start="5196" data-end="5199">Drei Mazurken op. 15</
 p>\n<ul data-start="5222" data-end="5277">\n<li data-start="5222" data-end
 ="5240">\n<p data-start="5224" data-end="5240">Nr. 1 fis-Moll</p>\n</li>\n
 <li data-start="5241" data-end="5258">\n<p data-start="5243" data-end="525
 8">Nr. 2 Des-Dur</p>\n</li>\n<li data-start="5259" data-end="5277">\n<p da
 ta-start="5261" data-end="5277">Nr. 3 cis-Moll</p>\n</li>\n</ul>\n<p data-
 start="5279" data-end="5326"><strong data-start="5279" data-end="5301">Ser
 gei Bortkiewicz</strong><br data-start="5301" data-end="5304">Drei Mazurke
 n op. 64</p>\n<ul data-start="5327" data-end="5377">\n<li data-start="5327
 " data-end="5343">\n<p data-start="5329" data-end="5343">Nr. 1 a-Moll</p>\
 n</li>\n<li data-start="5344" data-end="5359">\n<p data-start="5346" data-
 end="5359">Nr. 2 E-Dur</p>\n</li>\n<li data-start="5360" data-end="5377">\
 n<p data-start="5362" data-end="5377">Nr. 3 fis-Dur</p>\n</li>\n</ul>
END:VEVENT
END:VCALENDAR