BEGIN:VCALENDAR
VERSION:2.0
PRODID:-//sebbo.net//ical-generator//EN
NAME:Solo Konzert
X-WR-CALNAME:Solo Konzert
TIMEZONE-ID:Europe/Berlin
X-WR-TIMEZONE:Europe/Berlin
BEGIN:VEVENT
UID:0448ba1c-5722-4f2e-a6a5-2392321da0b5
SEQUENCE:0
DTSTAMP:20260423T144443
DTSTART:20261017T120000
DTEND:20261017T140000
SUMMARY:Konzert – Solo
LOCATION:Bei Marlene \n · 
DESCRIPTION:Von Kharkiv bis Paris 
END:VEVENT
END:VCALENDAR