BEGIN:VCALENDAR
VERSION:2.0
PRODID:-//sebbo.net//ical-generator//EN
NAME:Duo Cavinella Konzert
X-WR-CALNAME:Duo Cavinella Konzert
TIMEZONE-ID:Europe/Berlin
X-WR-TIMEZONE:Europe/Berlin
BEGIN:VEVENT
UID:08a08077-03d8-4087-9e4b-dd0db01c03d3
SEQUENCE:0
DTSTAMP:20260423T155256
DTSTART:20261011T163000
DTEND:20261011T183000
SUMMARY:Konzert – Duo Cavinella
LOCATION:Schloß Langwaden \nSchloß Langwaden 1\n41516 · Grevenbroich
DESCRIPTION:Romantische Klangwelten – Von Beethoven bis Bortkiewicz \n<p
 ><strong>Ludwig van Beethoven (1770&ndash\;1827)</strong><br><em>Sonate f&
 uuml\;r Violine und Klavier Nr. 7 in c-Moll\, op. 30 Nr. 2</em></p>\n<ol>\
 n<li>Allegro con brio</li>\n<li>Adagio cantabile</li>\n<li>Scherzo: Allegr
 o</li>\n<li>Finale: Allegro &ndash\; Presto</li>\n</ol>\n<p><em>Variatione
 n &uuml\;ber ein Volkslied in a-Moll\, WoO 78</em></p>\n<p><strong>Johanne
 s Brahms (1833&ndash\;1897)</strong><br><em>Scherzo in c-Moll (aus der FAE
 -Sonate)</em></p>\n<p>Serhij Bortkiewicz &ndash\; Sonate f&uuml\;r Violine
  und Klavier g-Moll\, op. 26</p>\n<ol>\n<li>I. Sostenuto &ndash\; Allegro 
 drammatico</li>\n<li>II. Andante</li>\n<li>III. Allegro vivace e con brio<
 /li>\n</ol>
END:VEVENT
END:VCALENDAR